BEGIN:VCALENDAR
VERSION:2.0
PRODID:-//Tukios.com/
BEGIN:VEVENT
UID:263ead4d-5f51-4bdd-b8ae-647aaf62578f@www.jacobsfuneralhomes.com
DTSTAMP:20260423T210103Z
DTSTART:20260509T180000Z
DTEND:20260509T190000Z
SUMMARY:Memorial Service
DESCRIPTION:
URL:https://www.jacobsfuneralhomes.com/obituaries/marcia-garverick
LOCATION:Jacobs Funeral Home 1025 Carpenter Ave  Iron Mountain MI 49801
GEO:45.8129271;-88.0681331
END:VEVENT
END:VCALENDAR