BEGIN:VCALENDAR
VERSION:2.0
PRODID:-//Tukios.com/
BEGIN:VEVENT
UID:47c57356-4c15-4859-a0fa-e22575aad2d2@www.jacobsfuneralhomes.com
DTSTAMP:20260423T210138Z
DTSTART:20260509T170000Z
DTEND:20260509T180000Z
SUMMARY:Visitation
DESCRIPTION:
URL:https://www.jacobsfuneralhomes.com/obituaries/marcia-garverick
LOCATION:Jacobs Funeral Home 1025 Carpenter Ave  Iron Mountain MI 49801
GEO:45.8129271;-88.0681331
END:VEVENT
END:VCALENDAR