BEGIN:VCALENDAR
VERSION:2.0
PRODID:-//Tukios.com/
BEGIN:VEVENT
UID:a809623f-a111-46ef-bf4f-49d4ebeeb491@www.jacobsfuneralhomes.com
DTSTAMP:20260421T181734Z
DTSTART:20260501T160000Z
DTEND:20260501T170000Z
SUMMARY:Mass
DESCRIPTION:
URL:https://www.jacobsfuneralhomes.com/obituaries/jerome-drake
LOCATION:St. Mary’s St. Joseph’s Catholic Church 408 Prospect Avenue  
	Iron Mountain MI 49801
GEO:45.8188395;-88.0702912
END:VEVENT
END:VCALENDAR