BEGIN:VCALENDAR
VERSION:2.0
PRODID:-//Tukios.com/
BEGIN:VEVENT
UID:fd3b2697-817d-405e-a5de-7e8a7cbd4b3d@www.jacobsfuneralhomes.com
DTSTAMP:20260421T181825Z
DTSTART:20260430T210000Z
DTEND:20260430T230000Z
SUMMARY:Visitation
DESCRIPTION:
URL:https://www.jacobsfuneralhomes.com/obituaries/jerome-drake
LOCATION: 1025 Carpenter Ave  Iron Mountain MI 49801
GEO:45.8129271;-88.0681331
END:VEVENT
END:VCALENDAR